BEGIN:VCALENDAR
VERSION:2.0
PRODID:-//Volt Europa//Events//EN
CALSCALE:GREGORIAN
METHOD:PUBLISH
BEGIN:VEVENT
UID:meet-and-greet-leuven-in-mei-1778088600@voltbelgium.org
DTSTAMP:20260421T090922Z
DTSTART;TZID=Europe/Amsterdam:20260506T193000
DTEND;TZID=Europe/Amsterdam:20260506T213000
SUMMARY:Meet and greet Leuven in mei
DESCRIPTION:Benieuwd naar Volt of zin om mee te bouwen aan een toekomstgeri
 chte politiek in Leuven? Kom kennismaken met ons team tijdens onze Meet & G
 reet!  Vandaag spreken wij ook zeker over de aanstaande Volt-acties op 9 me
 i 2026 in Gent. Of je nu gewoon nieuwsgierig bent of actief wil meedoen —
  je bent van harte welkom! Tot dan!
LOCATION:Baron August de Becker Remyplein 52\, 3010 Kessel-Lo
URL:https://voltbelgie.org/agenda/meet-and-greet-leuven-in-mei
END:VEVENT
END:VCALENDAR
