BEGIN:VCALENDAR
VERSION:2.0
PRODID:-//Volt Europa//Events//EN
CALSCALE:GREGORIAN
METHOD:PUBLISH
BEGIN:VEVENT
UID:meet-greet-antwerpen-nl-20260211-2-1773340200@voltbelgium.org
DTSTAMP:20260425T164551Z
DTSTART;TZID=Europe/Amsterdam:20260312T193000
DTEND;TZID=Europe/Amsterdam:20260311T213000
SUMMARY:Meet & Greet Antwerpen [NL]
DESCRIPTION:Het is tijd om elkaar terug te zien. Wij komen samen om gezelli
 g iets te drinken en over politiek op het lokale niveau te bespreken. Wij h
 ebben enkele jaren om het tij te keren en wij zullen deze tijd zeker goed g
 ebruiken 💪 Iedereen is welkom!
LOCATION:Café Des Arts\, Boomgaardstraat 350\, 2600 Antwerpen
URL:https://voltbelgique.org/evenements/meet-greet-antwerpen-nl-20260211-2
END:VEVENT
END:VCALENDAR
