BEGIN:VCALENDAR
VERSION:2.0
PRODID:-//Volt Europa//Events//EN
CALSCALE:GREGORIAN
METHOD:PUBLISH
BEGIN:VEVENT
UID:meet-greet-avec-les-candidats-neerlandophones-au-parlement-europeen-170
 9751600@voltbelgium.org
DTSTAMP:20260423T142440Z
DTSTART;TZID=Europe/Amsterdam:20240306T200000
DTEND;TZID=Europe/Amsterdam:20240306T223000
SUMMARY:Meet & Greet avec les candidats néerlandophones au parlement europ
 éen
DESCRIPTION:Ne manquez pas l'occasion de rencontrer nos candidats\, de part
 ager vos idées et de leur poser des questions. Nous vous attendons le soir
 \, et n'oubliez pas d'amener vos amis\, collègues et famille. Tout le mond
 e est bienvenue !
LOCATION:VinSurWijn\, Etterbeek
URL:https://voltbelgique.org/evenements/meet-greet-avec-les-candidats-neerl
 andophones-au-parlement-europeen
END:VEVENT
END:VCALENDAR
