BEGIN:VCALENDAR
VERSION:2.0
PRODID:-//Volt Europa//Events//EN
CALSCALE:GREGORIAN
METHOD:PUBLISH
BEGIN:VEVENT
UID:meet-greet-brugge-nl-1772042400@voltbelgium.org
DTSTAMP:20260422T024635Z
DTSTART;TZID=Europe/Amsterdam:20260225T190000
DTEND;TZID=Europe/Amsterdam:20260225T220000
SUMMARY:Meet & Greet Brugge [NL]
DESCRIPTION:Waar Café De Republiek\, Sint-Jakobsstraat 36\, 8000 Brugge Uu
 r 19u-22u Toegang Gratis Het kersverse bestuur voor Oost- & West-Vlaanderen
  heet je welkom op onze allereerste West-Vlaamse Meet & Greet van het jaar.
  Wil je lokaal een verschil maken met Volt en mee nadenken over het beleid?
  Of wil je eerst meer ontdekken over Volt Europa of Volt België? Dit is jo
 uw kans om kennis te maken! Kom gezellig kennismaken met de leden van Volt 
 Oost- en West-Vlaanderen! Drink samen met ons een pintje of een co
LOCATION:Café De Republiek\, Sint-Jakobsstraat 36\, 8000 Brugge
URL:https://voltbelgien.org/events/meet-greet-brugge-nl
END:VEVENT
END:VCALENDAR
