BEGIN:VCALENDAR
VERSION:2.0
PRODID:-//Volt Europa//Events//EN
CALSCALE:GREGORIAN
METHOD:PUBLISH
BEGIN:VEVENT
UID:meet-greet-brussels-1-1-1-1727973000@voltbelgium.org
DTSTAMP:20260423T130334Z
DTSTART;TZID=Europe/Amsterdam:20241003T183000
DTEND;TZID=Europe/Amsterdam:20241003T220000
SUMMARY:Meet & Greet Brussels
DESCRIPTION:💜Dear Volters and Brussels' citizens💜\, You are cordially
  invited to the next Meet and Greet on 3 October 2024 at 18.30 in Café Mer
 lo\, Quai aux briques/Baksteenkaai 80\, 1000 Brussels. You will be able to 
 meet the three Volt candidates for Brussels City\, Suzana\, Radoslav  and E
 rika to discuss with them their priorities for the local elections. Bring y
 our friends and family to learn more about your ⭐️favorite political pa
 rty🌟. Looking forward to seeing you there\, your Brussels City team. Eve
 ryone i
LOCATION:Café Merlo\, Quai aux Briques 80\, 1000 Bruxelles
URL:https://voltbelgium.org/events/meet-greet-brussels-1-1-1
END:VEVENT
END:VCALENDAR
