BEGIN:VCALENDAR
VERSION:2.0
PRODID:-//Volt Europa//Events//EN
CALSCALE:GREGORIAN
METHOD:PUBLISH
BEGIN:VEVENT
UID:meet-greet-brussels-a-cafe-merlo-21-marss-1711042200@voltbelgium.org
DTSTAMP:20260423T130511Z
DTSTART;TZID=Europe/Amsterdam:20240321T183000
DTEND;TZID=Europe/Amsterdam:20240321T220000
SUMMARY:Meet & Greet Brussels à Café Merlo
DESCRIPTION:Il est temps pour un autre Meet & Greet au cœur de Bruxelles !
  À l'étage du Café Merlo\, dans le quartier convivial de Dansaert\, vous
  trouverez un lieu chaleureux. Partagez un verre et parlez politique avec d
 es Volters et présentez vos nouvelles idées démocratiques innovantes à 
 nos candidats. Nous vous attendons le soir\, et n'oubliez pas d'amener vos 
 amis\, collègues et famille. Tout le monde est bienvenue !
LOCATION:Quai aux Briques 80\, Bruxelles 1000
URL:https://voltbelgique.org/evenements/meet-greet-brussels-a-cafe-merlo-21
 -marss
END:VEVENT
END:VCALENDAR
