BEGIN:VCALENDAR
VERSION:2.0
PRODID:-//Volt Europa//Events//EN
CALSCALE:GREGORIAN
METHOD:PUBLISH
BEGIN:VEVENT
UID:meet-greet-brussels-volt-bxl-2026-1767031200@voltbelgium.org
DTSTAMP:20260423T110025Z
DTSTART;TZID=Europe/Amsterdam:20251229T190000
DTEND;TZID=Europe/Amsterdam:20251229T220000
SUMMARY:Meet & Greet Brussel – Volt BXL 2026
DESCRIPTION:Waar 1e verdieping  Café Merlo\, Baksteenkaai 80\, 1000 Brusse
 l Uur 19u-22u Toegang Gratis:  iedereen is welkom Ideale eerste introductie
  Wil je in Brussel een verschil maken met Volt en mee nadenken over het bel
 eid? Of wil je eerst Volt Europa of Volt België leren kennen? Kom dan geze
 llig kennismaken met de leden van Volt Brussel en daarbuiten! Drink samen m
 et ons een pintje of een limonade en geef je input over hoe Volt Brussel er
  in 2026 tegenaan gaat. Ben je wat later? Geen probleem\, je kan de
LOCATION:1e verdieping Café Merlo\, Baksteenkaai 80\, 1000 Brussel
URL:https://voltbelgie.org/agenda/meet-greet-brussels-volt-bxl-2026
END:VEVENT
END:VCALENDAR
