BEGIN:VCALENDAR
VERSION:2.0
PRODID:-//Volt Europa//Events//EN
CALSCALE:GREGORIAN
METHOD:PUBLISH
BEGIN:VEVENT
UID:meet-greet-gent-2025-09-18-1758214800@voltbelgium.org
DTSTAMP:20260423T064641Z
DTSTART;TZID=Europe/Amsterdam:20250918T190000
DTEND;TZID=Europe/Amsterdam:20250918T220000
SUMMARY:Meet & Greet Gent [NL]
DESCRIPTION:Ideale eerste introductie Wil je in Gent een verschil maken met
  Volt en mee nadenken over het beleid? Of wil je eerst Volt Europa of Volt 
 België leren kennen? Kom dan gezellig kennismaken met de leden van Volt Oo
 st- en West-Vlaanderen! Drink samen met ons een pintje of een limonade en o
 ntdek hoe wij naar de toekomst kijken. Wat later? Het is geen probleem als 
 je wat later bent\, sluit aan wanneer het voor jou past.
LOCATION:Eltòn\, Kon. Maria Hendrikaplein 36\, 9000 Gent
URL:https://voltbelgium.org/events/meet-greet-gent-2025-09-18
END:VEVENT
END:VCALENDAR
