BEGIN:VCALENDAR
VERSION:2.0
PRODID:-//Volt Europa//Events//EN
CALSCALE:GREGORIAN
METHOD:PUBLISH
BEGIN:VEVENT
UID:meet-greet-gent-nl-1-1-1739383200@voltbelgium.org
DTSTAMP:20260423T065023Z
DTSTART;TZID=Europe/Amsterdam:20250212T190000
DTEND;TZID=Europe/Amsterdam:20250212T220000
SUMMARY:Meet & Greet Gent [NL]
DESCRIPTION:Waar De Vrolijke Viking\, Voskenslaan 67\, 9000 Gent Uur 19u-22
 u Toegang Gratis De kersverse co-voorzitters voor Oost- & West-Vlaanderen h
 eten je welkom op alweer een Meet & Greet. Wil je lokaal een verschil maken
  met Volt en mee nadenken over het beleid? Of wil je eerst meer ontdekken o
 ver Volt Europa of Volt België? Dit is jouw kans om kennis te maken! Kom g
 ezellig kennismaken met de leden van Volt Oost- en West-Vlaanderen! Drink s
 amen met ons een pintje of een cola en ontdek hoe wij naar de toe
LOCATION:De Vrolijke Viking\, Voskenslaan 67\, 9000 Gent
URL:https://voltbelgium.org/events/meet-greet-gent-nl-1-1
END:VEVENT
END:VCALENDAR
