BEGIN:VCALENDAR
VERSION:2.0
PRODID:-//Volt Europa//Events//EN
CALSCALE:GREGORIAN
METHOD:PUBLISH
BEGIN:VEVENT
UID:meet-greet-leuven-nl-1764786600@voltbelgium.org
DTSTAMP:20260423T104259Z
DTSTART;TZID=Europe/Amsterdam:20251203T193000
DTEND;TZID=Europe/Amsterdam:20251203T220000
SUMMARY:Meet & Greet Leuven [NL]
DESCRIPTION:Waar Café Tempo\, in kessel-lo aan de achterzijde van het stat
 ion van Leuven. Het is een kleine 10 minuutjes wandelen van het station. Uu
 r 19u30-22u00 Toegang Gratis:  iedereen is welkom Volt Leuven nodigt je uit
 ! Kom langs voor een informele Meet & Greet met leden van Volt in Leuven. O
 ntmoet gelijkgestemden\, stel je vragen en ontdek hoe jij kan bijdragen aan
  een betere toekomst - lokaal en Europees!
LOCATION:Café Tempo\, Baron August de Becker Remyplein 52\, 3010 Kessel-Lo
URL:https://voltbelgium.org/events/meet-greet-leuven-nl
END:VEVENT
END:VCALENDAR
