BEGIN:VCALENDAR
VERSION:2.0
PRODID:-//Volt Europa//Events//EN
CALSCALE:GREGORIAN
METHOD:PUBLISH
BEGIN:VEVENT
UID:political-cafe-agriculture-brussels-in-cafe-merlo-26-mars-1-1711474200@
 voltbelgium.org
DTSTAMP:20260423T130635Z
DTSTART;TZID=Europe/Amsterdam:20240326T183000
DTEND;TZID=Europe/Amsterdam:20240326T220000
SUMMARY:Café politique : Faire de l’agriculture un outil contre la pert
 e de biodiversité et le changement climatique
DESCRIPTION:Il est temps pour un autre Café politique au cœur de Bruxelle
 s ! Partagez un verre et discutez avec des professionnels et des Volters\, 
 et présentez vos nouvelles idées innovantes pour enrichir le débat. Orat
 eurs Modération par  Erika Schulze \, co-responsable de la ville à Volt B
 ruxelles Suzana Carp \, spécialiste européenne de la politique climatique
  et tête de liste de Volt pour la liste européenne francophone de Volt Be
 lgique Kristine De Schamphelaere \, ingénieure en biosciences et responsab
 le 
LOCATION:Quai aux Briques 80\, Bruxelles 1000
URL:https://voltbelgique.org/evenements/political-cafe-agriculture-brussels
 -in-cafe-merlo-26-mars-1
END:VEVENT
END:VCALENDAR
