BEGIN:VCALENDAR
VERSION:2.0
PRODID:-//Volt Europa//Events//EN
CALSCALE:GREGORIAN
METHOD:PUBLISH
BEGIN:VEVENT
UID:political-congres-en-1772355600@voltbelgium.org
DTSTAMP:20260422T024646Z
DTSTART;TZID=Europe/Amsterdam:20260301T100000
DTEND;TZID=Europe/Amsterdam:20260301T170000
SUMMARY:Political congress [EN]
DESCRIPTION:As the premier Euro-federalist movement\, Volt resolutely choos
 es a united Europe that actually works. We challenge the status quo and the
  short-term thinking of the established parties. We opt for a social-libera
 l future with a vision that looks generations ahead\, grounded in evidence-
 based policy and facts. On March 1st\, we will gather in Ghent to set our c
 ourse and sharpen our vision. Join us and help build a powerful\, federal c
 ontinent that is economically\, ecologically\, and socially prospero
LOCATION:Sint-Pietersabdij\, Kapittelzaal\, Sint-Pietersplein 9\, 9000 Gent
URL:https://voltbelgique.org/evenements/political-congres-en
END:VEVENT
END:VCALENDAR
