BEGIN:VCALENDAR
VERSION:2.0
PRODID:-//Volt Europa//Events//EN
CALSCALE:GREGORIAN
METHOD:PUBLISH
BEGIN:VEVENT
UID:recepetion-du-nouvel-an-2025-1735916400@voltbelgium.org
DTSTAMP:20260423T130421Z
DTSTART;TZID=Europe/Amsterdam:20250103T160000
DTEND;TZID=Europe/Amsterdam:20250104T020000
SUMMARY:Récepetion du Nouvel An 2025
DESCRIPTION:2024 a été une année mouvementée et chargée pour nous tous
 . Nous avons participé à cinq élections avec des dizaines de listes et d
 es centaines de candidats. Pendant presque une année entière\, nous avons
  collecté des signatures et fait campagne. Nous avons bravé le froid et l
 a pluie\, engagé le dialogue avec beaucoup de gens\, et convaincu bon nomb
 re d’entre eux de signer ou de voter pour nous. Pour célébrer la fin de
  cette belle année électorale\, nous organisons une réception du Nouvel 
 An à Gand. 
LOCATION:Afkikker\, Sint-Kwintensberg 52\, 9000 Gand
URL:https://voltbelgique.org/evenements/recepetion-du-nouvel-an-2025
END:VEVENT
END:VCALENDAR
