BEGIN:VCALENDAR
VERSION:2.0
PRODID:-//Volt Europa//Events//EN
CALSCALE:GREGORIAN
METHOD:PUBLISH
BEGIN:VEVENT
UID:reception-nationale-du-nouvel-an-de-volt-belgique-2026-1768586400@voltb
 elgium.org
DTSTAMP:20260425T040856Z
DTSTART;TZID=Europe/Amsterdam:20260116T190000
DTEND;TZID=Europe/Amsterdam:20260116T223000
SUMMARY:RÃ©ception nationale du Nouvel An de Volt Belgique 2026
DESCRIPTION:âœ¨ AprÃ¨s le grand succÃ¨s de la rÃ©ception du Nouvel An de lâ
 €™an dernier Ã  Gand\, le conseil de Volt Belgique a le plaisir de vous inv
 iter Ã  la  RÃ©ception nationale du Nouvel An de Volt Belgique 2026  â€” ce
 tte fois Ã   Malines \, Ã  seulement quelques minutes Ã  pied de la gare ! 
 ðŸš† Rejoignez-nous le  vendredi 16 janvier  pour une soirÃ©e inspirante\, 
 pleine dâ€™occasions de rencontrer des membres venus de tout le pays\, dâ€™
 Ã©changer des idÃ©es\, de cÃ©lÃ©brer nos rÃ©ussites et de  commencer lâ€™an
 nÃ©e 2026 ensemble avec
LOCATION:Via Via\, Zandpoortvest 50\, 2800 Mechelen (deuxiÃ¨me Ã©tage)
URL:https://voltbelgique.org/evenements/reception-nationale-du-nouvel-an-de
 -volt-belgique-2026
END:VEVENT
END:VCALENDAR
