BEGIN:VCALENDAR
VERSION:2.0
PRODID:-//Volt Europa//Events//EN
CALSCALE:GREGORIAN
METHOD:PUBLISH
BEGIN:VEVENT
UID:social-media-workshop-2-1714224600@voltbelgium.org
DTSTAMP:20260422T191556Z
DTSTART;TZID=Europe/Amsterdam:20240427T153000
DTEND;TZID=Europe/Amsterdam:20240427T173000
SUMMARY:Social media workshop - Part 2 of 2
DESCRIPTION:During this session\, we will learn how to record material (i.e
  scripts\, photo's and videos) for social media posts (i.e stories\, reel
 s).  The workshop will have a practical nature\, so dress with your best (
 purple) clothes to go on the street and make viral content. Your laptop wil
 l be welcome for the session. It is not necessary to be present at both wo
 rkshops\, even if you were not present in our first workshop\, you are welc
 ome to participate in this one. Language: Dutch\, with translation into E
LOCATION:Via Via Reiscafe Antwerpen. Wolstraat 43\, 2000 Antwerpen
URL:https://voltbelgium.org/events/social-media-workshop-2
END:VEVENT
END:VCALENDAR
