BEGIN:VCALENDAR
VERSION:2.0
PRODID:-//Volt Europa//Events//EN
CALSCALE:GREGORIAN
METHOD:PUBLISH
BEGIN:VEVENT
UID:social-media-workshop-1713375000@voltbelgium.org
DTSTAMP:20260423T125944Z
DTSTART;TZID=Europe/Amsterdam:20240417T193000
DTEND;TZID=Europe/Amsterdam:20240417T213000
SUMMARY:Social media workshop - Part 1 of 2
DESCRIPTION:During this workshop we will debate a few political topics that
  are relevant for Antwerpen. The topics will be selected at the beginning o
 f the session and will be discussed in small groups. The conclusions reache
 d by each group will be used for the second part of the workshop on 27/04\,
  when we will learn about campaigning on social media.  Your laptop will b
 e welcome for the session. It is not necessary to be present at both works
 hops\, you can follow part 1 or part 2 independently.  Language: D
LOCATION:Café des Arts - Boomgaardstraat 350\, 2600 Antwerpen
URL:https://voltbelgium.org/events/social-media-workshop
END:VEVENT
END:VCALENDAR
