BEGIN:VCALENDAR
VERSION:2.0
PRODID:-//Volt Europa//Events//EN
CALSCALE:GREGORIAN
METHOD:PUBLISH
BEGIN:VEVENT
UID:the-volt-brand-part-1-1723053600@voltbelgium.org
DTSTAMP:20260423T064905Z
DTSTART;TZID=Europe/Amsterdam:20240807T200000
DTEND;TZID=Europe/Amsterdam:20240807T210000
SUMMARY:The Volt Brand - Part 1
DESCRIPTION:ðŸ’œ  Help Volt with Communications - Social Media & Website  ð
 Ÿ’œ Part 1 (07/08):  General introduction & discussion on communications Pa
 rt 2 (14/08):  Volt Design & the Figma tool [More info here] Part 3 (21/08)
 :  Volt Website & the Statamic tool [More info here] âš¡ Volt Belgium is al
 ways seeking  volunteers to assist with External Communications \, includin
 g social media\, websites\, newsletters\, print design\, and more. We are l
 ooking for assistance  at the local\, provincial\, and national levels . Th
 is
LOCATION:Online meet.google.com/eqq-mqeb-rgc
URL:https://voltbelgique.org/evenements/the-volt-brand-part-1
END:VEVENT
END:VCALENDAR
