BEGIN:VCALENDAR
VERSION:2.0
PRODID:-//Volt Europa//Events//EN
CALSCALE:GREGORIAN
METHOD:PUBLISH
BEGIN:VEVENT
UID:the-woman-behind-the-image-marche-mondiale-des-femmes-1741438800@voltbe
 lgium.org
DTSTAMP:20260423T130655Z
DTSTART;TZID=Europe/Amsterdam:20250308T140000
DTEND;TZID=Europe/Amsterdam:20250308T170000
SUMMARY:The Woman Behind the Image & Marche Mondiale des Femmes
DESCRIPTION:CafÃ© et gÃ¢teau avec  Karima El Hachimi \, membre du conseil d
 'administration de Volt Belgique\, pour discuter de "La femme derriÃ¨re lâ€
 ™image - comment les idÃ©es patriarcales\, idÃ©ologiques et culturelles tro
 ublent notre perception dâ€™une personne." Cet Ã©vÃ©nement se dÃ©roulera un
 iquement en anglais. Ensuite\, nous rejoindrons la Marche Mondiale des Femm
 es\, qui dÃ©butera Ã  15h00 sur la place de lâ€™Albertine. Nous avons hÃ¢te
  de vous voir plus tard\, Marie et Erika ðŸ’œCo-ordinatrices de Volt Bruxel
 lesðŸ’œ
LOCATION:Volt Hub\, Galeries du Cinquantenaire\, Avenue de Tervuren/Tervure
 nlaan 32-36
URL:https://voltbelgique.org/bruxelles/evenements/the-woman-behind-the-imag
 e-marche-mondiale-des-femmes
END:VEVENT
END:VCALENDAR
