BEGIN:VCALENDAR
VERSION:2.0
PRODID:-//Volt Europa//Events//EN
CALSCALE:GREGORIAN
METHOD:PUBLISH
BEGIN:VEVENT
UID:transition-post-brexit-pour-les-citoyens-britanniques-dans-lue-17115624
 00@voltbelgium.org
DTSTAMP:20260423T110736Z
DTSTART;TZID=Europe/Amsterdam:20240327T190000
DTEND;TZID=Europe/Amsterdam:20240327T210000
SUMMARY:Transition post-Brexit pour les citoyens britanniques dans l’UE
DESCRIPTION:Les prochaines élections européennes seront les premières de
 puis le Brexit. Il s’agit des premières élections européennes pour les
 quelles les citoyens britanniques ne pourront pas voter. Ceci\, associé au
  manque de représentation des partis politiques au niveau national\, a con
 tribué aux récentes conclusions de l'Université de Strathclyde selon les
 quelles 90 % des citoyens britanniques vivant dans l'UE se sentent politiqu
 ement sous-représentés. À la lumière de cela\, Volt Belgium accueille d
 es cito
LOCATION:Rue Montoyer 1/32\, Brussels - Maison des Ailes
URL:https://voltbelgique.org/evenements/transition-post-brexit-pour-les-cit
 oyens-britanniques-dans-lue
END:VEVENT
END:VCALENDAR
