BEGIN:VCALENDAR
VERSION:2.0
PRODID:-//Volt Europa//Events//EN
CALSCALE:GREGORIAN
METHOD:PUBLISH
BEGIN:VEVENT
UID:volt-academy-autumn-university-1764406800@voltbelgium.org
DTSTAMP:20260423T105529Z
DTSTART;TZID=Europe/Amsterdam:20251129T100000
DTEND;TZID=Europe/Amsterdam:20251130T190000
SUMMARY:Volt Belgium Academy
DESCRIPTION:The Volt Belgium Academy is a whole weekend (from 10h to 19h) f
 ull of training\, debate\, networking\, and politics. You can join for any 
 part or all of it. Throughout Saturday\, we offer a number of training modu
 les for Volt members and supporters\, while Sunday focusses on debate\, int
 eractivity\, and Belgian and European politics. You can find the preliminar
 y agenda below. We warmly invite international Volt members and supporters 
 to join our Autumn University. We've optimised the timetable such tha
LOCATION:Room H1301\, ULB\, Av. Paul Héger 2/6\, 1050 Bruxelles
URL:https://voltbelgium.org/events/volt-academy-autumn-university
END:VEVENT
END:VCALENDAR
