BEGIN:VCALENDAR
VERSION:2.0
PRODID:-//Volt Europa//Events//EN
CALSCALE:GREGORIAN
METHOD:PUBLISH
BEGIN:VEVENT
UID:volt-antwerpen-meet-greet-avec-nos-candidats-1717174800@voltbelgium.org
DTSTAMP:20260423T195801Z
DTSTART;TZID=Europe/Amsterdam:20240531T190000
DTEND;TZID=Europe/Amsterdam:20240531T213000
SUMMARY:Volt Antwerpen Meet & Greet avec nos candidats
DESCRIPTION:Lors de ce meet & greet\, nous ferons connaissance avec les pri
 ncipaux candidats aux Parlements fédéral et flamand. Jasper et Jeroen exp
 liqueront leur motivation à se présenter pour Volt et leurs propositions 
 pour Anvers.  Merci d'apporter votre enthousiasme et vos questions à nos 
 candidats.  La session se déroulera en néerlandais. Si vous comprenez le
  néerlandais mais que vous ne vous sentez à l'aise que pour parler anglai
 s ou français\, nous vous encourageons néanmoins à rejoindre la session.
LOCATION:Peperfabriek - Breughelstraat 31\, 2018 Antwerpen
URL:https://voltbelgique.org/evenements/volt-antwerpen-meet-greet-avec-nos-
 candidats
END:VEVENT
END:VCALENDAR
