BEGIN:VCALENDAR
VERSION:2.0
PRODID:-//Volt Europa//Events//EN
CALSCALE:GREGORIAN
METHOD:PUBLISH
BEGIN:VEVENT
UID:volt-gent-kerstdrink-nl-1734544800@voltbelgium.org
DTSTAMP:20260423T064641Z
DTSTART;TZID=Europe/Amsterdam:20241218T190000
DTEND;TZID=Europe/Amsterdam:20241218T220000
SUMMARY:Volt Gent Kerstdrink [NL]
DESCRIPTION:In deze laatste drink van het jaar blikken we even terug op het
  voorbije jaar en ons recente evenement rond  vrouwen in de politiek . Onde
 rtussen smeden we verder aan de agenda voor 2025 en het beleid voor de kome
 nde jaren. Wil je lokaal een verschil maken met Volt en mee nadenken over h
 et beleid? Of wil je eerst meer ontdekken over Volt Europa of Volt België?
  Dit is jouw kans om kennis te maken! Kom gezellig kennismaken met de leden
  van Volt Oost- en West-Vlaanderen! Drink samen met ons een pin
LOCATION:Eltòn\, Kon. Maria Hendrikaplein 36\, 9000 Gent
URL:https://voltbelgium.org/events/volt-gent-kerstdrink-nl
END:VEVENT
END:VCALENDAR
