BEGIN:VCALENDAR
VERSION:2.0
PRODID:-//Volt Europa//Events//EN
CALSCALE:GREGORIAN
METHOD:PUBLISH
BEGIN:VEVENT
UID:voltbrand2-1723658400@voltbelgium.org
DTSTAMP:20260422T113839Z
DTSTART;TZID=Europe/Amsterdam:20240814T200000
DTEND;TZID=Europe/Amsterdam:20240814T210000
SUMMARY:The Volt Brand - Part 2
DESCRIPTION:ðŸ’œ  Help Volt with Communications - Social Media & Website  ð
 Ÿ’œ Part 1 (07/08 - 20:00):  General introduction & discussion on communica
 tions [More info here] Part 2 (14/08 - 20:00):  Volt Design & the Figma too
 l Part 3 (21/08 - 20:00):  Volt Website & the Statamic tool [More info here
 ] âš¡ Volt Belgium is always seeking  volunteers to assist with External Co
 mmunications \, including social media\, websites\, newsletters\, print des
 ign\, and more. We are looking for  assistance at the local\, provincial\, 
 an
LOCATION:meet.google.com/fkr-pivf-wek
URL:https://voltbelgium.org/events/voltbrand2
END:VEVENT
END:VCALENDAR
