BEGIN:VCALENDAR
VERSION:2.0
PRODID:-//Volt Europa//Events//EN
CALSCALE:GREGORIAN
METHOD:PUBLISH
BEGIN:VEVENT
UID:wie-let-er-op-brussel-fr-1715103000@voltbelgium.org
DTSTAMP:20260423T110629Z
DTSTART;TZID=Europe/Amsterdam:20240507T193000
DTEND;TZID=Europe/Amsterdam:20240507T210000
SUMMARY:Qui fait attention à Bruxelles ?
DESCRIPTION:Le Parlement européen doit contrôler le pouvoir\, mais il est
  régulièrement critiqué en raison de scandales ces dernières années. Y
  a-t-il trop peu de contrôle sur les hommes politiques et les fonctionnair
 es européens ? Nous en discuterons en réponse à Qui fait attention à Br
 uxelles ?\, le nouveau livre des éditeurs bruxellois de la plateforme jour
 nalistique Follow The Money. Le débat comptera sur la participation de  Si
 mon Van Dorpe  (journaliste d'investigation FTM\, Bureau Bruxelles)\,  Bram
  Vran
LOCATION:deBuren\, Rue Leopold 6\, Bruxelles
URL:https://voltbelgique.org/evenements/wie-let-er-op-brussel-fr
END:VEVENT
END:VCALENDAR
