BEGIN:VCALENDAR
VERSION:2.0
PRODID:-//Volt Europa//Events//EN
CALSCALE:GREGORIAN
METHOD:PUBLISH
BEGIN:VEVENT
UID:concert-caritatif-pour-lukraine-1740078000@voltbelgium.org
DTSTAMP:20260423T130615Z
DTSTART;TZID=Europe/Amsterdam:20250220T200000
DTEND;TZID=Europe/Amsterdam:20250220T223000
SUMMARY:Concert caritatif pour l'Ukraine
DESCRIPTION:Montrons notre solidarité avec l'Ukraine ! Un concert caritati
 f aura lieu dans la magnifique église du Sablon le jeudi 20 février à 20
 h. Tous les bénéfices seront reversés à un hôpital mobile en Ukraine. 
 Information de BRIMA The Brussels International Academy of Music (BR.I.M.A.
 ) with the support of the Embassy of Ukraine in the Kingdom of Belgium\, Mi
 ssion of Ukraine to the European Union invite you to a charity concert dedi
 cated to the commemoration of the victims of the war in Ukraine on the o
LOCATION:Rue des Sablons\, 1000 Brussel
URL:https://voltbelgique.org/evenements/concert-caritatif-pour-lukraine
END:VEVENT
END:VCALENDAR
