BEGIN:VCALENDAR
VERSION:2.0
PRODID:-//Volt Europa//Events//EN
CALSCALE:GREGORIAN
METHOD:PUBLISH
BEGIN:VEVENT
UID:drink-talk-lintegration-en-europe-et-tervuren-1727976600@voltbelgium.or
 g
DTSTAMP:20260423T130543Z
DTSTART;TZID=Europe/Amsterdam:20241003T193000
DTEND;TZID=Europe/Amsterdam:20241003T230000
SUMMARY:Drink/Talk : L'intégration en Europe et Tervuren...
DESCRIPTION:Organisateurs : Tervuren Union et Volt Tervuren. Keynote/Panel 
 : L'eurodéputée Anna Strolenberg prononcera également un bref discours. 
 Avant d'être élue au Parlement européen en juillet 2024\, Anna a égalem
 ent travaillé pour le Réseau néerlandais des réfugiés. Panel : Mamy Ra
 famantanana (Tervuren) Panel : Claudia Zapata (Tervuren) Mobilité mondiale
 /expats Panel : Tracey D'Afters (Tervuren) Stratégiste en communication Mo
 dérateur : Dafydd ab Iago (Tervuren)\, journaliste Tervuren est devenue un
  cre
LOCATION:Zaal De Berk\, Zevenster\, Tervuren
URL:https://voltbelgique.org/evenements/drink-talk-lintegration-en-europe-e
 t-tervuren
END:VEVENT
END:VCALENDAR
