BEGIN:VCALENDAR
VERSION:2.0
PRODID:-//Volt Europa//Events//EN
CALSCALE:GREGORIAN
METHOD:PUBLISH
BEGIN:VEVENT
UID:manifestation-3-ans-de-guerre-en-ukraine-1740315600@voltbelgium.org
DTSTAMP:20260423T130635Z
DTSTART;TZID=Europe/Amsterdam:20250223T140000
DTEND;TZID=Europe/Amsterdam:20250223T190000
SUMMARY:Manifestation : 3 ans de guerre en Ukraine
DESCRIPTION:Volt Belgique participe à une manifestation pour marquer les t
 rois ans de la guerre à grande échelle en Ukraine. Notre parti veut montr
 er son soutien sans équivoque à l’Ukraine en ce moment décisif. La man
 ifestation\, organisée par l'ONG Promote Ukraine\, aura lieu à la Place d
 e l'Albertine\, Bruxelles\, le 23/02 à 14 h 00.
LOCATION:Place de l'Albertine\, Bruxelles
URL:https://voltbelgique.org/evenements/manifestation-3-ans-de-guerre-en-uk
 raine
END:VEVENT
END:VCALENDAR
