BEGIN:VCALENDAR
VERSION:2.0
PRODID:-//Volt Europa//Events//EN
CALSCALE:GREGORIAN
METHOD:PUBLISH
BEGIN:VEVENT
UID:not-all-quiet-on-the-eastern-front-europa-verenigt-zich-tegen-pestkoppe
 n-en-de-hybride-wereldoorlog-1740396600@voltbelgium.org
DTSTAMP:20260423T130752Z
DTSTART;TZID=Europe/Amsterdam:20250224T123000
DTEND;TZID=Europe/Amsterdam:20250224T140000
SUMMARY:«Not all quiet on the Eastern front» - L'Europe s'unit contre les
  intimidateurs et la guerre hybride mondiale
DESCRIPTION:Cela fait trois ans que les troupes russes de Poutine ont massi
 vement envahi l'Ukraine\, ramenant la guerre totale en Europe après 80 ans
 . Alliance4Europe \,  Volt Belgique \,  PromoteUkraine  et  GRASPE   vous i
 nvitent à manifester sur « notre » Place Lux \, pour montrer que les fon
 ctionnaires des institutions de l'UE — créées à l'origine pour mainten
 ir la paix sur notre continent — ainsi que de nombreux résidents belges\
 , se  tiendront aux côtés des citoyens des voisins de la Russie  victimes
  d'agr
LOCATION:Place du Luxembourg\, 1050 Elsene
URL:https://voltbelgique.org/evenements/not-all-quiet-on-the-eastern-front-
 europa-verenigt-zich-tegen-pestkoppen-en-de-hybride-wereldoorlog
END:VEVENT
END:VCALENDAR
